BEGIN:VCALENDAR
PRODID:-//HKUST Drupal Platform//EN
VERSION:2.0
BEGIN:VTIMEZONE
TZID:Asia/Hong_Kong
BEGIN:STANDARD
DTSTART:20071104T020000
TZOFFSETFROM:+0700
TZOFFSETTO:+0800
TZNAME:HKT
END:STANDARD
END:VTIMEZONE
BEGIN:VEVENT
DTSTAMP;TZID=Asia/Hong_Kong:20260426T095418
DTSTART;TZID=Asia/Hong_Kong:20250213T110000
DTEND;TZID=Asia/Hong_Kong:20250213T140000
LOCATION:Room 3598 (Lifts 27-28), 3/F Academic Building, HKUST
SUMMARY:PHD in Life Science - Neuropeptide Signalling and Perineurial Barrier Stress Response Mechanisms Generate Post-Traumatic State in Drosophila
UID:43011
END:VEVENT
END:VCALENDAR