BEGIN:VCALENDAR
PRODID:-//HKUST Drupal Platform//EN
VERSION:2.0
BEGIN:VTIMEZONE
TZID:Asia/Hong_Kong
BEGIN:STANDARD
DTSTART:20071104T020000
TZOFFSETFROM:+0700
TZOFFSETTO:+0800
TZNAME:HKT
END:STANDARD
END:VTIMEZONE
BEGIN:VEVENT
DTSTAMP;TZID=Asia/Hong_Kong:20260426T095418
DTSTART;TZID=Asia/Hong_Kong:20250114T150000
DTEND;TZID=Asia/Hong_Kong:20250114T180000
LOCATION:Room 5564 (Lifts 27-28), HKUST
SUMMARY:PHD in Chem & Biomolecular Engg - Design, Synthesis and Application of High-performance Novel Ion-conducting Covalent Organic Frameworks for Energy Devices
UID:42967
END:VEVENT
END:VCALENDAR