BEGIN:VCALENDAR
PRODID:-//HKUST Drupal Platform//EN
VERSION:2.0
BEGIN:VTIMEZONE
TZID:Asia/Hong_Kong
BEGIN:STANDARD
DTSTART:20071104T020000
TZOFFSETFROM:+0700
TZOFFSETTO:+0800
TZNAME:HKT
END:STANDARD
END:VTIMEZONE
BEGIN:VEVENT
DTSTAMP;TZID=Asia/Hong_Kong:20260426T071729
DTSTART;TZID=Asia/Hong_Kong:20250124T140000
DTEND;TZID=Asia/Hong_Kong:20250124T170000
LOCATION:Room 2548 (Lifts 27-28), 2/F Academic Building, HKUST
SUMMARY:MPhil in Mechanical Engineering - Probing the Electronic Conductivity of Battery Electrodes
UID:42955
END:VEVENT
END:VCALENDAR