BEGIN:VCALENDAR
PRODID:-//HKUST Drupal Platform//EN
VERSION:2.0
BEGIN:VTIMEZONE
TZID:Asia/Hong_Kong
BEGIN:STANDARD
DTSTART:20071104T020000
TZOFFSETFROM:+0700
TZOFFSETTO:+0800
TZNAME:HKT
END:STANDARD
END:VTIMEZONE
BEGIN:VEVENT
DTSTAMP;TZID=Asia/Hong_Kong:20260420T153657
DTSTART;TZID=Asia/Hong_Kong:20241203T140000
DTEND;TZID=Asia/Hong_Kong:20241203T170000
LOCATION:Chen Kuan Cheng Forum  (LT-H), near lift 27/28, HKUST
SUMMARY: 港科大-华科大 医工交叉论坛    - 医工交叉：人工智能医疗前沿研究与转化应用论坛
UID:42794
END:VEVENT
END:VCALENDAR