BEGIN:VCALENDAR
PRODID:-//HKUST Drupal Platform//EN
VERSION:2.0
BEGIN:VTIMEZONE
TZID:Asia/Hong_Kong
BEGIN:STANDARD
DTSTART:20071104T020000
TZOFFSETFROM:+0700
TZOFFSETTO:+0800
TZNAME:HKT
END:STANDARD
END:VTIMEZONE
BEGIN:VEVENT
DTSTAMP;TZID=Asia/Hong_Kong:20260420T064225
DTSTART;TZID=Asia/Hong_Kong:20241129T130000
DTEND;TZID=Asia/Hong_Kong:20241129T140000
LOCATION:SCIENCE HOME (opposite to LT-B)/ ZOOM
SUMMARY:GSCI Friday Seminar: Safe System Approach - The Future of Road Safety in Hong Kong
UID:42552
END:VEVENT
END:VCALENDAR