BEGIN:VCALENDAR
PRODID:-//HKUST Drupal Platform//EN
VERSION:2.0
BEGIN:VTIMEZONE
TZID:Asia/Hong_Kong
BEGIN:STANDARD
DTSTART:20071104T020000
TZOFFSETFROM:+0700
TZOFFSETTO:+0800
TZNAME:HKT
END:STANDARD
END:VTIMEZONE
BEGIN:VEVENT
DTSTAMP;TZID=Asia/Hong_Kong:20260420T055515
DTSTART;TZID=Asia/Hong_Kong:20241025T103000
DTEND;TZID=Asia/Hong_Kong:20241025T120000
LOCATION:Room 2465, Academic Building, Floor 2 (Lift 25/26)
SUMMARY:Civil Engineering Departmental Seminar  - Cyberinfrastructure Framework for Smart Civil Infrastructure Monitoring
UID:42353
END:VEVENT
END:VCALENDAR