BEGIN:VCALENDAR
PRODID:-//HKUST Drupal Platform//EN
VERSION:2.0
BEGIN:VTIMEZONE
TZID:Asia/Hong_Kong
BEGIN:STANDARD
DTSTART:20071104T020000
TZOFFSETFROM:+0700
TZOFFSETTO:+0800
TZNAME:HKT
END:STANDARD
END:VTIMEZONE
BEGIN:VEVENT
DTSTAMP;TZID=Asia/Hong_Kong:20260423T124240
DTSTART;TZID=Asia/Hong_Kong:20240827T100000
DTEND;TZID=Asia/Hong_Kong:20240827T110000
LOCATION:Room 2304 (Lifts 17/18)
SUMMARY:Department of Mathematics - Seminar on Applied Mathematics - Optimal Order for Phase Retrieval Problem Based on Fourier Measurements
UID:41870
END:VEVENT
END:VCALENDAR