BEGIN:VCALENDAR
PRODID:-//HKUST Drupal Platform//EN
VERSION:2.0
BEGIN:VTIMEZONE
TZID:Asia/Hong_Kong
BEGIN:STANDARD
DTSTART:20071104T020000
TZOFFSETFROM:+0700
TZOFFSETTO:+0800
TZNAME:HKT
END:STANDARD
END:VTIMEZONE
BEGIN:VEVENT
DTSTAMP;TZID=Asia/Hong_Kong:20260422T154644
DTSTART;TZID=Asia/Hong_Kong:20240816T140000
DTEND;TZID=Asia/Hong_Kong:20240816T170000
LOCATION:Room 4502 (near lift no. 25 -26)
SUMMARY:Colors of Inclusion: Art Workshop for Staff and Family
UID:41608
END:VEVENT
END:VCALENDAR