BEGIN:VCALENDAR
PRODID:-//HKUST Drupal Platform//EN
VERSION:2.0
BEGIN:VTIMEZONE
TZID:Asia/Hong_Kong
BEGIN:STANDARD
DTSTART:20071104T020000
TZOFFSETFROM:+0700
TZOFFSETTO:+0800
TZNAME:HKT
END:STANDARD
END:VTIMEZONE
BEGIN:VEVENT
DTSTAMP;TZID=Asia/Hong_Kong:20260420T132908
DTSTART;TZID=Asia/Hong_Kong:20240530T000000
DTEND;TZID=Asia/Hong_Kong:20240602T235900
LOCATION:Mr and Mrs Lee Siu Lun Lecture Theater (LT-K), HKUST, Clear Water Bay, Hong Kong
SUMMARY:Asian University Alliance (AUA) Seminar 亞洲大學聯盟學術研討會  - Smart and low carbon city 智能低碳城市
UID:41092
END:VEVENT
END:VCALENDAR