BEGIN:VCALENDAR
PRODID:-//HKUST Drupal Platform//EN
VERSION:2.0
BEGIN:VTIMEZONE
TZID:Asia/Hong_Kong
BEGIN:STANDARD
DTSTART:20071104T020000
TZOFFSETFROM:+0700
TZOFFSETTO:+0800
TZNAME:HKT
END:STANDARD
END:VTIMEZONE
BEGIN:VEVENT
DTSTAMP;TZID=Asia/Hong_Kong:20260420T124102
DTSTART;TZID=Asia/Hong_Kong:20240503T110000
DTEND;TZID=Asia/Hong_Kong:20240503T120000
LOCATION:Room 2303 (Lift 17-18), Academic Building, HKUST
SUMMARY:ISD x OCES Seminar – Exploring Selective Breeding as a Strategy to Increase the Thermal Resilience of Reef-Building Corals
UID:40837
END:VEVENT
END:VCALENDAR