BEGIN:VCALENDAR
PRODID:-//HKUST Drupal Platform//EN
VERSION:2.0
BEGIN:VTIMEZONE
TZID:Asia/Hong_Kong
BEGIN:STANDARD
DTSTART:20071104T020000
TZOFFSETFROM:+0700
TZOFFSETTO:+0800
TZNAME:HKT
END:STANDARD
END:VTIMEZONE
BEGIN:VEVENT
DTSTAMP;TZID=Asia/Hong_Kong:20260420T220857
DTSTART;TZID=Asia/Hong_Kong:20240503T143000
DTEND;TZID=Asia/Hong_Kong:20240503T153000
LOCATION:Room 5510, 5/F (Lifts 25-26), Academic Building
SUMMARY:Department of Chemistry - PhD Student Seminar - Deep Learning Models for Peptide-protein Interaction Prediction
UID:40675
END:VEVENT
END:VCALENDAR