BEGIN:VCALENDAR
PRODID:-//HKUST Drupal Platform//EN
VERSION:2.0
BEGIN:VTIMEZONE
TZID:Asia/Hong_Kong
BEGIN:STANDARD
DTSTART:20071104T020000
TZOFFSETFROM:+0700
TZOFFSETTO:+0800
TZNAME:HKT
END:STANDARD
END:VTIMEZONE
BEGIN:VEVENT
DTSTAMP;TZID=Asia/Hong_Kong:20260420T142616
DTSTART;TZID=Asia/Hong_Kong:20240523T140000
DTEND;TZID=Asia/Hong_Kong:20240523T170000
LOCATION:Room 3574 (Lifts 27-28), 3/F Academic Building, HKUST
SUMMARY:PHD in Civil Engineering - Designing Sustainable Natural Fiber-Reinforced Reactive Magnesia Cement Composites
UID:40619
END:VEVENT
END:VCALENDAR