BEGIN:VCALENDAR
PRODID:-//HKUST Drupal Platform//EN
VERSION:2.0
BEGIN:VTIMEZONE
TZID:Asia/Hong_Kong
BEGIN:STANDARD
DTSTART:20071104T020000
TZOFFSETFROM:+0700
TZOFFSETTO:+0800
TZNAME:HKT
END:STANDARD
END:VTIMEZONE
BEGIN:VEVENT
DTSTAMP;TZID=Asia/Hong_Kong:20260420T163806
DTSTART;TZID=Asia/Hong_Kong:20240424T180000
DTEND;TZID=Asia/Hong_Kong:20240424T190000
LOCATION:Lecture Theater-F
SUMMARY:ECE Career Talk  - Building Your Foundation: Strategies for Success in Your Early Career Positions
UID:40566
END:VEVENT
END:VCALENDAR