BEGIN:VCALENDAR
PRODID:-//HKUST Drupal Platform//EN
VERSION:2.0
BEGIN:VTIMEZONE
TZID:Asia/Hong_Kong
BEGIN:STANDARD
DTSTART:20071104T020000
TZOFFSETFROM:+0700
TZOFFSETTO:+0800
TZNAME:HKT
END:STANDARD
END:VTIMEZONE
BEGIN:VEVENT
DTSTAMP;TZID=Asia/Hong_Kong:20260420T153655
DTSTART;TZID=Asia/Hong_Kong:20240419T133000
DTEND;TZID=Asia/Hong_Kong:20240419T173000
LOCATION:Lamma Island 
SUMMARY:Cultivating Joy Journey: Lok Yin Farm Volunteering Day
UID:40288
END:VEVENT
END:VCALENDAR