BEGIN:VCALENDAR
PRODID:-//HKUST Drupal Platform//EN
VERSION:2.0
BEGIN:VTIMEZONE
TZID:Asia/Hong_Kong
BEGIN:STANDARD
DTSTART:20071104T020000
TZOFFSETFROM:+0700
TZOFFSETTO:+0800
TZNAME:HKT
END:STANDARD
END:VTIMEZONE
BEGIN:VEVENT
DTSTAMP;TZID=Asia/Hong_Kong:20260420T124102
DTSTART;TZID=Asia/Hong_Kong:20240221T130000
DTEND;TZID=Asia/Hong_Kong:20240221T160000
LOCATION:Area Outside LT-K
SUMMARY:IEI x Career Centre: Find Your Path at the Pop-Up Consultation Counter!
UID:39951
END:VEVENT
END:VCALENDAR