BEGIN:VCALENDAR
PRODID:-//HKUST Drupal Platform//EN
VERSION:2.0
BEGIN:VTIMEZONE
TZID:Asia/Hong_Kong
BEGIN:STANDARD
DTSTART:20071104T020000
TZOFFSETFROM:+0700
TZOFFSETTO:+0800
TZNAME:HKT
END:STANDARD
END:VTIMEZONE
BEGIN:VEVENT
DTSTAMP;TZID=Asia/Hong_Kong:20260420T192602
DTSTART;TZID=Asia/Hong_Kong:20231215T113000
DTEND;TZID=Asia/Hong_Kong:20231215T121500
LOCATION:Room 5583, 5/F (Lifts 27-28), Academic Building, HKUST
SUMMARY:Department of Chemistry Seminar - Perovskites and Lead-free Metal Halides for Displays and Other Optoelectronic Applications
UID:39638
END:VEVENT
END:VCALENDAR