BEGIN:VCALENDAR
PRODID:-//HKUST Drupal Platform//EN
VERSION:2.0
BEGIN:VTIMEZONE
TZID:Asia/Hong_Kong
BEGIN:STANDARD
DTSTART:20071104T020000
TZOFFSETFROM:+0700
TZOFFSETTO:+0800
TZNAME:HKT
END:STANDARD
END:VTIMEZONE
BEGIN:VEVENT
DTSTAMP;TZID=Asia/Hong_Kong:20260420T192859
DTSTART;TZID=Asia/Hong_Kong:20231211T160000
DTEND;TZID=Asia/Hong_Kong:20231211T170000
LOCATION:Room 1410, 1/F (Lifts 25-26), Academic Building, HKUST
SUMMARY:Joint Seminar by Division of Life Science & Department of Chemistry - Mechanistic Study of Dioscorea Bulbifera L. (黄药子)- Induced Liver Injury
UID:39614
END:VEVENT
END:VCALENDAR