BEGIN:VCALENDAR
PRODID:-//HKUST Drupal Platform//EN
VERSION:2.0
BEGIN:VTIMEZONE
TZID:Asia/Hong_Kong
BEGIN:STANDARD
DTSTART:20071104T020000
TZOFFSETFROM:+0700
TZOFFSETTO:+0800
TZNAME:HKT
END:STANDARD
END:VTIMEZONE
BEGIN:VEVENT
DTSTAMP;TZID=Asia/Hong_Kong:20260420T132910
DTSTART;TZID=Asia/Hong_Kong:20231206T160000
DTEND;TZID=Asia/Hong_Kong:20231206T173000
LOCATION:Room 3574 (Lift 27/28)  Civil Engineering Conference Room, HKUST
SUMMARY:Civil Engineering Departmental Seminar  - Multiphase Large-eddy Simulations of Human Cough Jet Development and Expiratory Droplet Dispersion
UID:39559
END:VEVENT
END:VCALENDAR