BEGIN:VCALENDAR
PRODID:-//HKUST Drupal Platform//EN
VERSION:2.0
BEGIN:VTIMEZONE
TZID:Asia/Hong_Kong
BEGIN:STANDARD
DTSTART:20071104T020000
TZOFFSETFROM:+0700
TZOFFSETTO:+0800
TZNAME:HKT
END:STANDARD
END:VTIMEZONE
BEGIN:VEVENT
DTSTAMP;TZID=Asia/Hong_Kong:20260420T225611
DTSTART;TZID=Asia/Hong_Kong:20240130T133000
DTEND;TZID=Asia/Hong_Kong:20240130T163000
LOCATION:TWGHs Yau Tze Tin Memorial College, 1 Siu Hong Rd, Tuen Mun
SUMMARY:Teen\'s Key Simulation Game School Workshop Volunteers「青躍模擬⼈⽣⼯作坊」義工
UID:39557
END:VEVENT
END:VCALENDAR