BEGIN:VCALENDAR
PRODID:-//HKUST Drupal Platform//EN
VERSION:2.0
BEGIN:VTIMEZONE
TZID:Asia/Hong_Kong
BEGIN:STANDARD
DTSTART:20071104T020000
TZOFFSETFROM:+0700
TZOFFSETTO:+0800
TZNAME:HKT
END:STANDARD
END:VTIMEZONE
BEGIN:VEVENT
DTSTAMP;TZID=Asia/Hong_Kong:20260421T041517
DTSTART;TZID=Asia/Hong_Kong:20231205T150000
DTEND;TZID=Asia/Hong_Kong:20231205T163000
LOCATION:Room 3401 (Lift no. 17-18), Academic Building
SUMMARY:Research Seminar - Shamanism and the ‘placebo effect’:  A new anthropological approach to the global history of psychiatry
UID:39534
END:VEVENT
END:VCALENDAR