BEGIN:VCALENDAR
PRODID:-//HKUST Drupal Platform//EN
VERSION:2.0
BEGIN:VTIMEZONE
TZID:Asia/Hong_Kong
BEGIN:STANDARD
DTSTART:20071104T020000
TZOFFSETFROM:+0700
TZOFFSETTO:+0800
TZNAME:HKT
END:STANDARD
END:VTIMEZONE
BEGIN:VEVENT
DTSTAMP;TZID=Asia/Hong_Kong:20260420T220856
DTSTART;TZID=Asia/Hong_Kong:20231127T000000
DTEND;TZID=Asia/Hong_Kong:20231203T235900
LOCATION:online voting
SUMMARY:Sustainable Smart Campus Student Competition 2023- Watch and Vote for your favorites
UID:39478
END:VEVENT
END:VCALENDAR