BEGIN:VCALENDAR
PRODID:-//HKUST Drupal Platform//EN
VERSION:2.0
BEGIN:VTIMEZONE
TZID:Asia/Hong_Kong
BEGIN:STANDARD
DTSTART:20071104T020000
TZOFFSETFROM:+0700
TZOFFSETTO:+0800
TZNAME:HKT
END:STANDARD
END:VTIMEZONE
BEGIN:VEVENT
DTSTAMP;TZID=Asia/Hong_Kong:20260420T203203
DTSTART;TZID=Asia/Hong_Kong:20231212T143000
DTEND;TZID=Asia/Hong_Kong:20231212T153000
LOCATION:Room 1409, 1/F (Lifts 25/26), Academic Building
SUMMARY:Department of Chemistry - PhD Student Seminar - Data Memory Based on  Amorphous-Crystalline Phase Change
UID:39409
END:VEVENT
END:VCALENDAR