BEGIN:VCALENDAR
PRODID:-//HKUST Drupal Platform//EN
VERSION:2.0
BEGIN:VTIMEZONE
TZID:Asia/Hong_Kong
BEGIN:STANDARD
DTSTART:20071104T020000
TZOFFSETFROM:+0700
TZOFFSETTO:+0800
TZNAME:HKT
END:STANDARD
END:VTIMEZONE
BEGIN:VEVENT
DTSTAMP;TZID=Asia/Hong_Kong:20260420T165423
DTSTART;TZID=Asia/Hong_Kong:20231108T190000
DTEND;TZID=Asia/Hong_Kong:20231108T200000
LOCATION:Join Zoom Meeting
SUMMARY:ASCE Region 10 Distinguished Lecture  - Risk-informed Decision in Geotechnical Design
UID:39266
END:VEVENT
END:VCALENDAR