BEGIN:VCALENDAR
PRODID:-//HKUST Drupal Platform//EN
VERSION:2.0
BEGIN:VTIMEZONE
TZID:Asia/Hong_Kong
BEGIN:STANDARD
DTSTART:20071104T020000
TZOFFSETFROM:+0700
TZOFFSETTO:+0800
TZNAME:HKT
END:STANDARD
END:VTIMEZONE
BEGIN:VEVENT
DTSTAMP;TZID=Asia/Hong_Kong:20260420T124103
DTSTART;TZID=Asia/Hong_Kong:20231115T090000
DTEND;TZID=Asia/Hong_Kong:20231115T103000
SUMMARY:Promoting Interdisciplinarity in Global Health Education
UID:39006
END:VEVENT
END:VCALENDAR