BEGIN:VCALENDAR
PRODID:-//HKUST Drupal Platform//EN
VERSION:2.0
BEGIN:VTIMEZONE
TZID:Asia/Hong_Kong
BEGIN:STANDARD
DTSTART:20071104T020000
TZOFFSETFROM:+0700
TZOFFSETTO:+0800
TZNAME:HKT
END:STANDARD
END:VTIMEZONE
BEGIN:VEVENT
DTSTAMP;TZID=Asia/Hong_Kong:20260420T192605
DTSTART;TZID=Asia/Hong_Kong:20231017T090000
DTEND;TZID=Asia/Hong_Kong:20231017T120000
LOCATION:The HKUST Jockey Club Institute for Advanced Study, IAS Lecture Hall
SUMMARY:Symposium on Carbon Monitoring in Space Era  - Global Insights into CO2 Fluctuations from Satellite Observations
UID:38989
END:VEVENT
END:VCALENDAR