BEGIN:VCALENDAR
PRODID:-//HKUST Drupal Platform//EN
VERSION:2.0
BEGIN:VTIMEZONE
TZID:Asia/Hong_Kong
BEGIN:STANDARD
DTSTART:20071104T020000
TZOFFSETFROM:+0700
TZOFFSETTO:+0800
TZNAME:HKT
END:STANDARD
END:VTIMEZONE
BEGIN:VEVENT
DTSTAMP;TZID=Asia/Hong_Kong:20260420T165420
DTSTART;TZID=Asia/Hong_Kong:20231012T143000
DTEND;TZID=Asia/Hong_Kong:20231012T153000
LOCATION:Room 1103, 1/F (near Lift 19, besides LT-A), Academic Building
SUMMARY:Department of Chemistry - PhD Student Seminar - Recent Developments in Strategies for Separation & Extraction of Lanthanides and Actinides
UID:38892
END:VEVENT
END:VCALENDAR