BEGIN:VCALENDAR
PRODID:-//HKUST Drupal Platform//EN
VERSION:2.0
BEGIN:VTIMEZONE
TZID:Asia/Hong_Kong
BEGIN:STANDARD
DTSTART:20071104T020000
TZOFFSETFROM:+0700
TZOFFSETTO:+0800
TZNAME:HKT
END:STANDARD
END:VTIMEZONE
BEGIN:VEVENT
DTSTAMP;TZID=Asia/Hong_Kong:20260422T204403
DTSTART;TZID=Asia/Hong_Kong:20221130T023000
DTEND;TZID=Asia/Hong_Kong:20221130T050000
LOCATION:Room 4610 (4/F, Lift no. 31, 32), HKUST Campus
SUMMARY:PROTOTYPING SERIES - BASIC ARDUINO WORKSHOP (ENGLISH SESSION)
UID:38808
END:VEVENT
END:VCALENDAR