BEGIN:VCALENDAR
PRODID:-//HKUST Drupal Platform//EN
VERSION:2.0
BEGIN:VTIMEZONE
TZID:Asia/Hong_Kong
BEGIN:STANDARD
DTSTART:20071104T020000
TZOFFSETFROM:+0700
TZOFFSETTO:+0800
TZNAME:HKT
END:STANDARD
END:VTIMEZONE
BEGIN:VEVENT
DTSTAMP;TZID=Asia/Hong_Kong:20260425T091636
DTSTART;TZID=Asia/Hong_Kong:20230922T103000
DTEND;TZID=Asia/Hong_Kong:20230922T113000
LOCATION:E2-228
SUMMARY:Info Hub Distinguished Lecture Series 信息枢纽卓越系列讲座  - Enhancing Relational Database Management Systems with Increased Power and Efficiency
UID:38730
END:VEVENT
END:VCALENDAR