BEGIN:VCALENDAR
PRODID:-//HKUST Drupal Platform//EN
VERSION:2.0
BEGIN:VTIMEZONE
TZID:Asia/Hong_Kong
BEGIN:STANDARD
DTSTART:20071104T020000
TZOFFSETFROM:+0700
TZOFFSETTO:+0800
TZNAME:HKT
END:STANDARD
END:VTIMEZONE
BEGIN:VEVENT
DTSTAMP;TZID=Asia/Hong_Kong:20260420T124102
DTSTART;TZID=Asia/Hong_Kong:20230905T160000
DTEND;TZID=Asia/Hong_Kong:20230905T170000
LOCATION:Room 3598 (lift 27/28)
SUMMARY:SKL Seminar  - Recent Advances in III-Nitrides for MicroLED and Visible Laser Materials and Devices
UID:38503
END:VEVENT
END:VCALENDAR