BEGIN:VCALENDAR
PRODID:-//HKUST Drupal Platform//EN
VERSION:2.0
BEGIN:VTIMEZONE
TZID:Asia/Hong_Kong
BEGIN:STANDARD
DTSTART:20071104T020000
TZOFFSETFROM:+0700
TZOFFSETTO:+0800
TZNAME:HKT
END:STANDARD
END:VTIMEZONE
BEGIN:VEVENT
DTSTAMP;TZID=Asia/Hong_Kong:20260420T084801
DTSTART;TZID=Asia/Hong_Kong:20230927T123000
DTEND;TZID=Asia/Hong_Kong:20230927T150000
LOCATION:Shaw Auditorium
SUMMARY:Moonlit Delights @ SA 歡聚逸堂慶中秋
UID:38352
END:VEVENT
END:VCALENDAR