BEGIN:VCALENDAR
PRODID:-//HKUST Drupal Platform//EN
VERSION:2.0
BEGIN:VTIMEZONE
TZID:Asia/Hong_Kong
BEGIN:STANDARD
DTSTART:20071104T020000
TZOFFSETFROM:+0700
TZOFFSETTO:+0800
TZNAME:HKT
END:STANDARD
END:VTIMEZONE
BEGIN:VEVENT
DTSTAMP;TZID=Asia/Hong_Kong:20260420T165422
DTSTART;TZID=Asia/Hong_Kong:20230814T150000
DTEND;TZID=Asia/Hong_Kong:20230814T160000
LOCATION:Room 4503, 4/F (Lifts 25-26), Academic Building, HKUST
SUMMARY:Department of Chemistry Seminar - An Isolable Benzoborirene and the Carborane-based Three-dimensional Analogues
UID:38171
END:VEVENT
END:VCALENDAR