BEGIN:VCALENDAR
PRODID:-//HKUST Drupal Platform//EN
VERSION:2.0
BEGIN:VTIMEZONE
TZID:Asia/Hong_Kong
BEGIN:STANDARD
DTSTART:20071104T020000
TZOFFSETFROM:+0700
TZOFFSETTO:+0800
TZNAME:HKT
END:STANDARD
END:VTIMEZONE
BEGIN:VEVENT
DTSTAMP;TZID=Asia/Hong_Kong:20260420T124102
DTSTART;TZID=Asia/Hong_Kong:20230707T090000
DTEND;TZID=Asia/Hong_Kong:20230707T120000
LOCATION:Room 3574 (Lift 27/28), Civil Engineering Conference Room
SUMMARY:Civil Engineering Departmental Seminar  - SPH and MPM modelling of landslide-structure interaction
UID:38061
END:VEVENT
END:VCALENDAR