BEGIN:VCALENDAR
PRODID:-//HKUST Drupal Platform//EN
VERSION:2.0
BEGIN:VTIMEZONE
TZID:Asia/Hong_Kong
BEGIN:STANDARD
DTSTART:20071104T020000
TZOFFSETFROM:+0700
TZOFFSETTO:+0800
TZNAME:HKT
END:STANDARD
END:VTIMEZONE
BEGIN:VEVENT
DTSTAMP;TZID=Asia/Hong_Kong:20260420T193954
DTSTART;TZID=Asia/Hong_Kong:20230712T160000
DTEND;TZID=Asia/Hong_Kong:20230712T173000
LOCATION:Room 6602, 6/F (Lifts 31/32) Academic Building
SUMMARY:Department of Chemistry - PhD Student Seminar - Metal Complexes for Blue  Organic-light-emitting  Diodes (OLEDs) Emitters
UID:38032
END:VEVENT
END:VCALENDAR