BEGIN:VCALENDAR
PRODID:-//HKUST Drupal Platform//EN
VERSION:2.0
BEGIN:VTIMEZONE
TZID:Asia/Hong_Kong
BEGIN:STANDARD
DTSTART:20071104T020000
TZOFFSETFROM:+0700
TZOFFSETTO:+0800
TZNAME:HKT
END:STANDARD
END:VTIMEZONE
BEGIN:VEVENT
DTSTAMP;TZID=Asia/Hong_Kong:20260420T181316
DTSTART;TZID=Asia/Hong_Kong:20230825T100000
DTEND;TZID=Asia/Hong_Kong:20230825T104500
LOCATION:Room 2306, 2/F, (Lifts 17-18), Academic Building, HKUST
SUMMARY:Department of Chemistry Seminar - Development of sp3C-H Bond Functionalization by Multiple Catalyst System
UID:37858
END:VEVENT
END:VCALENDAR