BEGIN:VCALENDAR
PRODID:-//HKUST Drupal Platform//EN
VERSION:2.0
BEGIN:VTIMEZONE
TZID:Asia/Hong_Kong
BEGIN:STANDARD
DTSTART:20071104T020000
TZOFFSETFROM:+0700
TZOFFSETTO:+0800
TZNAME:HKT
END:STANDARD
END:VTIMEZONE
BEGIN:VEVENT
DTSTAMP;TZID=Asia/Hong_Kong:20260420T220846
DTSTART;TZID=Asia/Hong_Kong:20230608T153000
DTEND;TZID=Asia/Hong_Kong:20230608T170500
LOCATION:Unit G01-G03, Building 2W, Hong Kong Science Park, Sha Tin, New Territories, Hong Kong
SUMMARY:The Advanced Semi-Conductor Innovation Hub  - Super-Intelligent AI and the Role of Semiconductors
UID:37664
END:VEVENT
END:VCALENDAR