BEGIN:VCALENDAR
PRODID:-//HKUST Drupal Platform//EN
VERSION:2.0
BEGIN:VTIMEZONE
TZID:Asia/Hong_Kong
BEGIN:STANDARD
DTSTART:20071104T020000
TZOFFSETFROM:+0700
TZOFFSETTO:+0800
TZNAME:HKT
END:STANDARD
END:VTIMEZONE
BEGIN:VEVENT
DTSTAMP;TZID=Asia/Hong_Kong:20260420T220856
DTSTART;TZID=Asia/Hong_Kong:20230424T150000
DTEND;TZID=Asia/Hong_Kong:20230424T163000
LOCATION:Room 4472 (Lift 25-26)
SUMMARY:Earth Day 2023  - Transform Waste into Treasure: Experience the Art of Paper Recycling!
UID:37257
END:VEVENT
BEGIN:VEVENT
DTSTAMP;TZID=Asia/Hong_Kong:20260420T220856
DTSTART;TZID=Asia/Hong_Kong:20230425T150000
DTEND;TZID=Asia/Hong_Kong:20230425T163000
LOCATION:Room 4472 (Lift 25-26)
SUMMARY:Earth Day 2023  - Transform Waste into Treasure: Experience the Art of Paper Recycling!
UID:37257
END:VEVENT
BEGIN:VEVENT
DTSTAMP;TZID=Asia/Hong_Kong:20260420T220856
DTSTART;TZID=Asia/Hong_Kong:20230426T150000
DTEND;TZID=Asia/Hong_Kong:20230426T163000
LOCATION:Room 4472 (Lift 25-26)
SUMMARY:Earth Day 2023  - Transform Waste into Treasure: Experience the Art of Paper Recycling!
UID:37257
END:VEVENT
END:VCALENDAR