BEGIN:VCALENDAR
PRODID:-//HKUST Drupal Platform//EN
VERSION:2.0
BEGIN:VTIMEZONE
TZID:Asia/Hong_Kong
BEGIN:STANDARD
DTSTART:20071104T020000
TZOFFSETFROM:+0700
TZOFFSETTO:+0800
TZNAME:HKT
END:STANDARD
END:VTIMEZONE
BEGIN:VEVENT
DTSTAMP;TZID=Asia/Hong_Kong:20260420T220840
DTSTART;TZID=Asia/Hong_Kong:20230323T103000
DTEND;TZID=Asia/Hong_Kong:20230323T113000
LOCATION:Room 1103, 1/F (near Lift 19, besides LT-A), Academic Building, HKUST
SUMMARY:Department of Chemistry Seminar - Atropisomeric Phosphine Ligands: Synergism of C-N Axial Chirality with Relevant N-Coordination and Leverage of π-Arene Walking
UID:36970
END:VEVENT
END:VCALENDAR