BEGIN:VCALENDAR
PRODID:-//HKUST Drupal Platform//EN
VERSION:2.0
BEGIN:VTIMEZONE
TZID:Asia/Hong_Kong
BEGIN:STANDARD
DTSTART:20071104T020000
TZOFFSETFROM:+0700
TZOFFSETTO:+0800
TZNAME:HKT
END:STANDARD
END:VTIMEZONE
BEGIN:VEVENT
DTSTAMP;TZID=Asia/Hong_Kong:20260420T153658
DTSTART;TZID=Asia/Hong_Kong:20230413T153000
DTEND;TZID=Asia/Hong_Kong:20230413T161000
LOCATION:Ping Yuan and Kinmay W Tang Gallery, Lee Shau Kee Library
SUMMARY:HKUST Arts Festivals 2023  - Resplendent Beauty on Cantonese Opera Repertoire and Costumes Opening Ceremony
UID:36918
END:VEVENT
END:VCALENDAR