BEGIN:VCALENDAR
PRODID:-//HKUST Drupal Platform//EN
VERSION:2.0
BEGIN:VTIMEZONE
TZID:Asia/Hong_Kong
BEGIN:STANDARD
DTSTART:20071104T020000
TZOFFSETFROM:+0700
TZOFFSETTO:+0800
TZNAME:HKT
END:STANDARD
END:VTIMEZONE
BEGIN:VEVENT
DTSTAMP;TZID=Asia/Hong_Kong:20260420T193900
DTSTART;TZID=Asia/Hong_Kong:20230306T110000
DTEND;TZID=Asia/Hong_Kong:20230306T160000
LOCATION:Atrium
SUMMARY:Jockey Club Sustainable Campus Consumer Programme Clothing Swap Event  - Clothing Swap Pop-up Store (UST station)
UID:36841
END:VEVENT
BEGIN:VEVENT
DTSTAMP;TZID=Asia/Hong_Kong:20260420T193900
DTSTART;TZID=Asia/Hong_Kong:20230307T110000
DTEND;TZID=Asia/Hong_Kong:20230307T160000
LOCATION:Atrium
SUMMARY:Jockey Club Sustainable Campus Consumer Programme Clothing Swap Event  - Clothing Swap Pop-up Store (UST station)
UID:36841
END:VEVENT
END:VCALENDAR