BEGIN:VCALENDAR
PRODID:-//HKUST Drupal Platform//EN
VERSION:2.0
BEGIN:VTIMEZONE
TZID:Asia/Hong_Kong
BEGIN:STANDARD
DTSTART:20071104T020000
TZOFFSETFROM:+0700
TZOFFSETTO:+0800
TZNAME:HKT
END:STANDARD
END:VTIMEZONE
BEGIN:VEVENT
DTSTAMP;TZID=Asia/Hong_Kong:20260425T091637
DTSTART;TZID=Asia/Hong_Kong:20230417T120000
DTEND;TZID=Asia/Hong_Kong:20230417T013000
LOCATION:Room 4621, Academic Building (Lift 31,32)
SUMMARY:Interdisciplinary Program Office (IPO) Sustainability Seminar Series Spring 2023  - Climate Change, Disaster Risks and Public Health
UID:36685
END:VEVENT
END:VCALENDAR