BEGIN:VCALENDAR
PRODID:-//HKUST Drupal Platform//EN
VERSION:2.0
BEGIN:VTIMEZONE
TZID:Asia/Hong_Kong
BEGIN:STANDARD
DTSTART:20071104T020000
TZOFFSETFROM:+0700
TZOFFSETTO:+0800
TZNAME:HKT
END:STANDARD
END:VTIMEZONE
BEGIN:VEVENT
DTSTAMP;TZID=Asia/Hong_Kong:20260420T163803
DTSTART;TZID=Asia/Hong_Kong:20230327T193000
DTEND;TZID=Asia/Hong_Kong:20230327T203000
LOCATION:CMA Lecture Theater (LT-L)
SUMMARY:HKUST Arts Festival 2023  - Jazz Talk & Demo: Between Now And Never by Invisible Architecture      
UID:36664
END:VEVENT
END:VCALENDAR