BEGIN:VCALENDAR
PRODID:-//HKUST Drupal Platform//EN
VERSION:2.0
BEGIN:VTIMEZONE
TZID:Asia/Hong_Kong
BEGIN:STANDARD
DTSTART:20071104T020000
TZOFFSETFROM:+0700
TZOFFSETTO:+0800
TZNAME:HKT
END:STANDARD
END:VTIMEZONE
BEGIN:VEVENT
DTSTAMP;TZID=Asia/Hong_Kong:20260420T153655
DTSTART;TZID=Asia/Hong_Kong:20230301T133000
DTEND;TZID=Asia/Hong_Kong:20230301T173000
LOCATION:Schindler Lifts (Hong Kong) Limited (SHK), Training Centre, 7/F Zung Fu House, 60 Ka Yip Street, Chai Wan
SUMMARY:Industrial Visit -  Schindler Lifts (Hong Kong) Limited (SHK)
UID:36639
END:VEVENT
END:VCALENDAR