BEGIN:VCALENDAR
PRODID:-//HKUST Drupal Platform//EN
VERSION:2.0
BEGIN:VTIMEZONE
TZID:Asia/Hong_Kong
BEGIN:STANDARD
DTSTART:20071104T020000
TZOFFSETFROM:+0700
TZOFFSETTO:+0800
TZNAME:HKT
END:STANDARD
END:VTIMEZONE
BEGIN:VEVENT
DTSTAMP;TZID=Asia/Hong_Kong:20260421T004630
DTSTART;TZID=Asia/Hong_Kong:20230206T000000
DTEND;TZID=Asia/Hong_Kong:20230214T235900
LOCATION:Academic concourse outside LTB
SUMMARY:Chinese New Year Food Sharing 
UID:36473
END:VEVENT
END:VCALENDAR