BEGIN:VCALENDAR
PRODID:-//HKUST Drupal Platform//EN
VERSION:2.0
BEGIN:VTIMEZONE
TZID:Asia/Hong_Kong
BEGIN:STANDARD
DTSTART:20071104T020000
TZOFFSETFROM:+0700
TZOFFSETTO:+0800
TZNAME:HKT
END:STANDARD
END:VTIMEZONE
BEGIN:VEVENT
DTSTAMP;TZID=Asia/Hong_Kong:20260421T004708
DTSTART;TZID=Asia/Hong_Kong:20230209T093000
DTEND;TZID=Asia/Hong_Kong:20230209T110000
LOCATION:Online
SUMMARY:Department of Chemistry Seminar - Semiconductor Nanocrystal Photocatalysis for the Production of Solar Fuels
UID:36464
END:VEVENT
END:VCALENDAR