BEGIN:VCALENDAR
PRODID:-//HKUST Drupal Platform//EN
VERSION:2.0
BEGIN:VTIMEZONE
TZID:Asia/Hong_Kong
BEGIN:STANDARD
DTSTART:20071104T020000
TZOFFSETFROM:+0700
TZOFFSETTO:+0800
TZNAME:HKT
END:STANDARD
END:VTIMEZONE
BEGIN:VEVENT
DTSTAMP;TZID=Asia/Hong_Kong:20260420T084801
DTSTART;TZID=Asia/Hong_Kong:20230323T000000
DTEND;TZID=Asia/Hong_Kong:20230401T235900
LOCATION:Foyer Exhibition Space, Shaw Auditorium
SUMMARY:HKUST Arts Festival 2023  - 賽馬會「獅子山傳耆」口述歷史戲劇計劃︰《講香港》巡迴展覽  Jockey Club “Once Under the Lion Rock” Oral History Theatre Programme: Roving Exhibition “All About Hong Kong”
UID:36314
END:VEVENT
END:VCALENDAR