BEGIN:VCALENDAR
PRODID:-//HKUST Drupal Platform//EN
VERSION:2.0
BEGIN:VTIMEZONE
TZID:Asia/Hong_Kong
BEGIN:STANDARD
DTSTART:20071104T020000
TZOFFSETFROM:+0700
TZOFFSETTO:+0800
TZNAME:HKT
END:STANDARD
END:VTIMEZONE
BEGIN:VEVENT
DTSTAMP;TZID=Asia/Hong_Kong:20260420T124102
DTSTART;TZID=Asia/Hong_Kong:20230308T193000
DTEND;TZID=Asia/Hong_Kong:20230308T203000
LOCATION:Main Hall, Shaw Auditorium
SUMMARY:HKUST Arts Festival 2023  - 《三國知多少》All About the Three Kingdoms by Hong Kong Dance Company
UID:36311
END:VEVENT
END:VCALENDAR