BEGIN:VCALENDAR
PRODID:-//HKUST Drupal Platform//EN
VERSION:2.0
BEGIN:VTIMEZONE
TZID:Asia/Hong_Kong
BEGIN:STANDARD
DTSTART:20071104T020000
TZOFFSETFROM:+0700
TZOFFSETTO:+0800
TZNAME:HKT
END:STANDARD
END:VTIMEZONE
BEGIN:VEVENT
DTSTAMP;TZID=Asia/Hong_Kong:20260420T193946
DTSTART;TZID=Asia/Hong_Kong:20221206T103000
DTEND;TZID=Asia/Hong_Kong:20221206T120000
LOCATION:Rm 4504, 4/F (Lifts 25/26), Academic Building, HKUST
SUMMARY:Department of Chemistry - Seminar - Chemical Biology of Nucleic Acid-Binding Proteins
UID:36188
END:VEVENT
END:VCALENDAR