BEGIN:VCALENDAR
PRODID:-//HKUST Drupal Platform//EN
VERSION:2.0
BEGIN:VTIMEZONE
TZID:Asia/Hong_Kong
BEGIN:STANDARD
DTSTART:20071104T020000
TZOFFSETFROM:+0700
TZOFFSETTO:+0800
TZNAME:HKT
END:STANDARD
END:VTIMEZONE
BEGIN:VEVENT
DTSTAMP;TZID=Asia/Hong_Kong:20260420T163757
DTSTART;TZID=Asia/Hong_Kong:20221201T000000
DTEND;TZID=Asia/Hong_Kong:20221202T235900
LOCATION:Hong Kong Convention and Exhibition Centre 
SUMMARY:Business of IP Asia Forum – 1-2 December 2022
UID:35928
END:VEVENT
END:VCALENDAR