BEGIN:VCALENDAR
PRODID:-//HKUST Drupal Platform//EN
VERSION:2.0
BEGIN:VTIMEZONE
TZID:Asia/Hong_Kong
BEGIN:STANDARD
DTSTART:20071104T020000
TZOFFSETFROM:+0700
TZOFFSETTO:+0800
TZNAME:HKT
END:STANDARD
END:VTIMEZONE
BEGIN:VEVENT
DTSTAMP;TZID=Asia/Hong_Kong:20260420T132907
DTSTART;TZID=Asia/Hong_Kong:20221108T081500
DTEND;TZID=Asia/Hong_Kong:20221108T094500
LOCATION:https://hkust.zoom.us/j/9584764665 (Passcode: BCOV)
SUMMARY:Department of Mathematics - Seminar on Pure Mathematics - BCOV\'s Feynman rule for quintic threefold 
UID:35924
END:VEVENT
END:VCALENDAR