BEGIN:VCALENDAR
PRODID:-//HKUST Drupal Platform//EN
VERSION:2.0
BEGIN:VTIMEZONE
TZID:Asia/Hong_Kong
BEGIN:STANDARD
DTSTART:20071104T020000
TZOFFSETFROM:+0700
TZOFFSETTO:+0800
TZNAME:HKT
END:STANDARD
END:VTIMEZONE
BEGIN:VEVENT
DTSTAMP;TZID=Asia/Hong_Kong:20260422T014427
DTSTART;TZID=Asia/Hong_Kong:20221021T110000
DTEND;TZID=Asia/Hong_Kong:20221021T120000
SUMMARY:Building Metaverse for Vehicles and Transportation Systems: Efficiency, Fairness, and Privacy
UID:35789
END:VEVENT
END:VCALENDAR